BEGIN:VCALENDAR
VERSION:2.0
PRODID:-//Greensboro Symphony Orchestra - ECPv6.15.20//NONSGML v1.0//EN
CALSCALE:GREGORIAN
METHOD:PUBLISH
X-WR-CALNAME:Greensboro Symphony Orchestra
X-ORIGINAL-URL:https://greensborosymphony.org
X-WR-CALDESC:Events for Greensboro Symphony Orchestra
REFRESH-INTERVAL;VALUE=DURATION:PT1H
X-Robots-Tag:noindex
X-PUBLISHED-TTL:PT1H
BEGIN:VTIMEZONE
TZID:America/New_York
BEGIN:DAYLIGHT
TZOFFSETFROM:-0500
TZOFFSETTO:-0400
TZNAME:EDT
DTSTART:20250309T070000
END:DAYLIGHT
BEGIN:STANDARD
TZOFFSETFROM:-0400
TZOFFSETTO:-0500
TZNAME:EST
DTSTART:20251102T060000
END:STANDARD
BEGIN:DAYLIGHT
TZOFFSETFROM:-0500
TZOFFSETTO:-0400
TZNAME:EDT
DTSTART:20260308T070000
END:DAYLIGHT
BEGIN:STANDARD
TZOFFSETFROM:-0400
TZOFFSETTO:-0500
TZNAME:EST
DTSTART:20261101T060000
END:STANDARD
BEGIN:DAYLIGHT
TZOFFSETFROM:-0500
TZOFFSETTO:-0400
TZNAME:EDT
DTSTART:20270314T070000
END:DAYLIGHT
BEGIN:STANDARD
TZOFFSETFROM:-0400
TZOFFSETTO:-0500
TZNAME:EST
DTSTART:20271107T060000
END:STANDARD
END:VTIMEZONE
BEGIN:VEVENT
DTSTART;TZID=America/New_York:20260613T190000
DTEND;TZID=America/New_York:20260613T190000
DTSTAMP:20260420T003937
CREATED:20250722T143044Z
LAST-MODIFIED:20251020T125033Z
UID:10000562-1781377200-1781377200@greensborosymphony.org
SUMMARY:Harry Potter and the Order of the Phoenix™
DESCRIPTION:
URL:https://greensborosymphony.org/event/harry-potter-and-the-order-of-the-phoenix/2026-06-13/
LOCATION:Steven Tanger Center for the Performing Arts\, 300 N. Elm Street\, Greensboro\, NC\, 27401\, United States
CATEGORIES:Family
ATTACH;FMTTYPE=image/webp:https://greensborosymphony.org/wp-content/uploads/2025/07/HP-Phoenix.webp
ORGANIZER;CN="Greensboro Symphony Orchestra":MAILTO:boxoffice@greensborosymphony.org
END:VEVENT
BEGIN:VEVENT
DTSTART;TZID=America/New_York:20260614T150000
DTEND;TZID=America/New_York:20260614T150000
DTSTAMP:20260420T003937
CREATED:20250722T143044Z
LAST-MODIFIED:20251020T125033Z
UID:10000563-1781449200-1781449200@greensborosymphony.org
SUMMARY:Harry Potter and the Order of the Phoenix™
DESCRIPTION:
URL:https://greensborosymphony.org/event/harry-potter-and-the-order-of-the-phoenix/2026-06-14/
LOCATION:Steven Tanger Center for the Performing Arts\, 300 N. Elm Street\, Greensboro\, NC\, 27401\, United States
CATEGORIES:Family
ATTACH;FMTTYPE=image/webp:https://greensborosymphony.org/wp-content/uploads/2025/07/HP-Phoenix.webp
ORGANIZER;CN="Greensboro Symphony Orchestra":MAILTO:boxoffice@greensborosymphony.org
END:VEVENT
END:VCALENDAR